BEGIN:VCALENDAR
VERSION:2.0
PRODID:-//Pfarrei Galgenen//NONSGML kigkonsult.se iCalcreator 2.16.12//
METHOD:PUBLISH
X-MS-OLK-FORCEINSPECTOROPEN:TRUE
BEGIN:VEVENT
UID:20260420T124645CEST-0536WrTOrC@Pfarrei Galgenen
DTSTAMP:20260420T104645Z
DESCRIPTION:09.30 Uhr Gottesdienst entfällt!\n \n\n14.00 Uhr Festgottesdien
 st mit anschliessendem Gräberbesuch\,\nmusikalisch umrahmt von den Kantore
 n.\nDiese Feier halten wir mit Zertifikatspflicht!\n
DTSTART:20211010T140000
DTEND:20211010T150000
ORGANIZER:MAILTO:Pfarrei Galgenen <sekretariat@kg-galgenen.ch>
SUMMARY:'Chilbisonntag' 
END:VEVENT
END:VCALENDAR
