BEGIN:VCALENDAR
VERSION:2.0
PRODID:-//Pfarrei Galgenen//NONSGML kigkonsult.se iCalcreator 2.16.12//
METHOD:PUBLISH
X-MS-OLK-FORCEINSPECTOROPEN:TRUE
BEGIN:VEVENT
UID:20260420T124553CEST-0396xg5K1M@Pfarrei Galgenen
DTSTAMP:20260420T104553Z
DESCRIPTION:Familiengottesdienst mit Zertifikatspflicht\, unter der Mitwirk
 ung der Bauernvereinigung Galgenen\nund verschiedenen volkstümlichen Beitr
 ägen.\n\nIm Anschluss an den Gottesdienst serviert die Bauernvereinigung e
 inen feinen Apero.\n
DTSTART:20211017T093000
DTEND:20211017T103000
ORGANIZER:MAILTO:Pfarrei Galgenen <sekretariat@kg-galgenen.ch>
SUMMARY:Erntedank Gottesdienst 
END:VEVENT
END:VCALENDAR
