BEGIN:VCALENDAR
VERSION:2.0
PRODID:-//Pfarrei Galgenen//NONSGML kigkonsult.se iCalcreator 2.16.12//
METHOD:PUBLISH
X-MS-OLK-FORCEINSPECTOROPEN:TRUE
BEGIN:VEVENT
UID:20260420T125737CEST-4776MURA7F@Pfarrei Galgenen
DTSTAMP:20260420T105737Z
DESCRIPTION:Dieser Gottesdienst wird von unseren Ministranten dekoriert und
  mitgestaltet.\nEin «süss-saurer» Familiengottesdienst erwartet sie.\n
DTSTART:20211030T190000
DTEND:20211030T200000
ORGANIZER:MAILTO:Pfarrei Galgenen <sekretariat@kg-galgenen.ch>
SUMMARY:Halloween Familien-Gottesdienst 
END:VEVENT
END:VCALENDAR
