BEGIN:VCALENDAR
VERSION:2.0
PRODID:-//Pfarrei Galgenen//NONSGML kigkonsult.se iCalcreator 2.16.12//
METHOD:PUBLISH
X-MS-OLK-FORCEINSPECTOROPEN:TRUE
BEGIN:VEVENT
UID:20260420T124747CEST-5521ClHfCa@Pfarrei Galgenen
DTSTAMP:20260420T104747Z
DESCRIPTION:Kein Gottesdienst um 9.30 Uhr!\n\n14.00 Uhr Festgottesdienst mi
 t Zertifikatspflicht\, mit anschliessendem Gräberbesuch\, \nunter der musi
 kalischen Mitwirkung des Kirchenchors.\n\nIm Anschluss führen wir im Marti
 ns-Träff eine Kafistubä mit Zertifikatspflicht. \n
DTSTART:20211101T140000
DTEND:20211101T150000
ORGANIZER:MAILTO:Pfarrei Galgenen <sekretariat@kg-galgenen.ch>
SUMMARY:Allerheiligen Hochfest
END:VEVENT
END:VCALENDAR
