BEGIN:VCALENDAR
VERSION:2.0
PRODID:-//Pfarrei Galgenen//NONSGML kigkonsult.se iCalcreator 2.16.12//
METHOD:PUBLISH
X-MS-OLK-FORCEINSPECTOROPEN:TRUE
BEGIN:VEVENT
UID:20260420T162858CEST-0233bLwtXF@Pfarrei Galgenen
DTSTAMP:20260420T142858Z
DESCRIPTION:Familiengottesdienst mit Zertifikatspflicht.\n\nIn diesem Gotte
 sdienst werden die Firmlinge von 2022 vorgestellt.\n\nAnschliessend führen
  diese im Martins-Träff ein „Chiläkafi“ mit Zertifikatspflicht.\n
DTSTART:20211107T093000
DTEND:20211107T103000
ORGANIZER:MAILTO:Pfarrei Galgenen <sekretariat@kg-galgenen.ch>
SUMMARY:Vorstellungs-Gottesdienst der Firmanden
END:VEVENT
END:VCALENDAR
