BEGIN:VCALENDAR
VERSION:2.0
PRODID:-//Pfarrei Galgenen//NONSGML kigkonsult.se iCalcreator 2.16.12//
METHOD:PUBLISH
X-MS-OLK-FORCEINSPECTOROPEN:TRUE
BEGIN:VEVENT
UID:20260420T124645CEST-4100hoCwJP@Pfarrei Galgenen
DTSTAMP:20260420T104645Z
DESCRIPTION:Festgottesdienst mit 3G-Zertifikatspflicht\, musikalisch beglei
 tet von Andreas Diethelm an der Orgel\,\ngemeinsam mit Anita Schwyter an I
 hrer Trompete.\n
DTSTART:20211114T093000
DTEND:20211114T103000
ORGANIZER:MAILTO:Pfarrei Galgenen <sekretariat@kg-galgenen.ch>
SUMMARY:Patrozinium St. Martin 
END:VEVENT
END:VCALENDAR
