BEGIN:VCALENDAR
VERSION:2.0
PRODID:-//Pfarrei Galgenen//NONSGML kigkonsult.se iCalcreator 2.16.12//
METHOD:PUBLISH
X-MS-OLK-FORCEINSPECTOROPEN:TRUE
BEGIN:VEVENT
UID:20260420T124634CEST-87313Xi5fe@Pfarrei Galgenen
DTSTAMP:20260420T104634Z
DESCRIPTION:Elisabethenfeier mit der FMG\, Frauen- und Müttergemeinschaft G
 algenen.\nEs gelten die Abstandsregeln und Maskenpflicht. Besten Dank für 
 Ihr Verständnis.\n
DTSTART:20211119T093000
DTEND:20211119T103000
ORGANIZER:MAILTO:Pfarrei Galgenen <sekretariat@kg-galgenen.ch>
SUMMARY:Elisabethen-Messe mit der FMG
END:VEVENT
END:VCALENDAR
