BEGIN:VCALENDAR
VERSION:2.0
PRODID:-//Pfarrei Galgenen//NONSGML kigkonsult.se iCalcreator 2.16.12//
METHOD:PUBLISH
X-MS-OLK-FORCEINSPECTOROPEN:TRUE
BEGIN:VEVENT
UID:20260420T124645CEST-24092xk0tn@Pfarrei Galgenen
DTSTAMP:20260420T104645Z
DESCRIPTION:Familien-Gottesdienst mit 3G-Zertifikatspflicht.\nIn diesem Got
 tesdienst werden die Erstkommunikanten vom 2022 vorgestellt.\n\nBei schöne
 m Wetter wird anschliessend vor der Kirche ein Apero serviert.\n
DTSTART:20211121T093000
DTEND:20211121T103000
ORGANIZER:MAILTO:Pfarrei Galgenen <sekretariat@kg-galgenen.ch>
SUMMARY:Vorstellungs-Gottesdienst der Erstkommunikanten
END:VEVENT
END:VCALENDAR
