BEGIN:VCALENDAR
VERSION:2.0
PRODID:-//Pfarrei Galgenen//NONSGML kigkonsult.se iCalcreator 2.16.12//
METHOD:PUBLISH
X-MS-OLK-FORCEINSPECTOROPEN:TRUE
BEGIN:VEVENT
UID:20260420T165002CEST-5247FRUE2w@Pfarrei Galgenen
DTSTAMP:20260420T145002Z
DESCRIPTION:In der Pfarrkirche St. Martin findet die alljährliche Kirchgeme
 inde-Versammlung statt.\nZu Beginn stimmt uns der Kirchenchor mit seinen w
 underschönen Klängen auf die Versammlung ein.\nAlle Kirchgemeinde-Mitglied
 er sind herzlich eingeladen.\nFür den Anlass gelten die Abstandsregeln und
  Maskenpflicht!\n
DTSTART:20211122T200000
DTEND:20211122T210000
ORGANIZER:MAILTO:Pfarrei Galgenen <sekretariat@kg-galgenen.ch>
SUMMARY:Kirchgemeinde Versammlung 
END:VEVENT
END:VCALENDAR
