BEGIN:VCALENDAR
VERSION:2.0
PRODID:-//Pfarrei Galgenen//NONSGML kigkonsult.se iCalcreator 2.16.12//
METHOD:PUBLISH
X-MS-OLK-FORCEINSPECTOROPEN:TRUE
BEGIN:VEVENT
UID:20260420T123800CEST-5948tZj5dH@Pfarrei Galgenen
DTSTAMP:20260420T103800Z
DESCRIPTION:An diesem Morgen basteln wir gemeinsam eine Überraschungs-Adven
 tbox und backen einen Grittibänz.\nFür diesen Anlass ist eine vorherige An
 meldung bis spätestens 19.11.2021 nötig!\n\n(siehe auch Flyer unter Downlo
 ad)\n
DTSTART:20211127T093000
DTEND:20211127T120000
ORGANIZER:MAILTO:Pfarrei Galgenen <sekretariat@kg-galgenen.ch>
SUMMARY:Adventbox-Basteln 
END:VEVENT
END:VCALENDAR
