BEGIN:VCALENDAR
VERSION:2.0
PRODID:-//Pfarrei Galgenen//NONSGML kigkonsult.se iCalcreator 2.16.12//
METHOD:PUBLISH
X-MS-OLK-FORCEINSPECTOROPEN:TRUE
BEGIN:VEVENT
UID:20260420T124633CEST-2224NLdZ0s@Pfarrei Galgenen
DTSTAMP:20260420T104633Z
DESCRIPTION:Rorate-GD mit den 5. und 6. Klassen.\nWie schon im letzten Jahr
 \, können wir auch in diesem Jahr situationsbedingt kein Frühstück durchfü
 hren und\nverteilen den Kindern ein Znüni. \nIn dieser Feier gelten Abstan
 dsregeln und Maskenpflicht. Besten Dank für Ihr Verständnis.\n\nKein Gotte
 sdienst um 9.30 Uhr!\n
DTSTART:20211201T063000
DTEND:20211201T073000
ORGANIZER:MAILTO:Pfarrei Galgenen <sekretariat@kg-galgenen.ch>
SUMMARY:Rorate-Gottesdienst 
END:VEVENT
END:VCALENDAR
