BEGIN:VCALENDAR
VERSION:2.0
PRODID:-//Pfarrei Galgenen//NONSGML kigkonsult.se iCalcreator 2.16.12//
METHOD:PUBLISH
X-MS-OLK-FORCEINSPECTOROPEN:TRUE
BEGIN:VEVENT
UID:20260420T124741CEST-1626olD0Go@Pfarrei Galgenen
DTSTAMP:20260420T104741Z
DESCRIPTION:Der Rorate-GD findet leider ohne die Kinder der 3. und 4. Klass
 en statt\,\ndies wegen den aktuellen schulischen Massnahmen. Sie sind aber
  herzlich willkommen. \nIn dieser Feier gelten Abstandsregeln und Maskenpf
 licht. Besten Dank für Ihr Verständnis.\n\nKein Gottesdienst um 9.30 Uhr!
 \n
DTSTART:20211215T063000
DTEND:20211215T073000
ORGANIZER:MAILTO:Pfarrei Galgenen <sekretariat@kg-galgenen.ch>
SUMMARY:Rorate-Gottesdienst ohne Schüler!
END:VEVENT
END:VCALENDAR
