BEGIN:VCALENDAR
VERSION:2.0
PRODID:-//Pfarrei Galgenen//NONSGML kigkonsult.se iCalcreator 2.16.12//
METHOD:PUBLISH
X-MS-OLK-FORCEINSPECTOROPEN:TRUE
BEGIN:VEVENT
UID:20260420T124822CEST-56151WUktI@Pfarrei Galgenen
DTSTAMP:20260420T104822Z
DESCRIPTION:Festgottesdienst zum Hochfest «Mariä unbefleckte Empfängnis»\,
 \nmit P. Robert Camenzind aus Nuolen.\nin dieser Feier gelten Abstandsrege
 ln und Maskenpflicht. Besten Dank für Ihr Verständnis.\n
DTSTART:20211208T093000
DTEND:20211208T103000
ORGANIZER:MAILTO:Pfarrei Galgenen <sekretariat@kg-galgenen.ch>
SUMMARY:Mariä unbefleckte Empfängnis 
END:VEVENT
END:VCALENDAR
