BEGIN:VCALENDAR
VERSION:2.0
PRODID:-//Pfarrei Galgenen//NONSGML kigkonsult.se iCalcreator 2.16.12//
METHOD:PUBLISH
X-MS-OLK-FORCEINSPECTOROPEN:TRUE
BEGIN:VEVENT
UID:20260420T124822CEST-6753veAk2J@Pfarrei Galgenen
DTSTAMP:20260420T104822Z
DESCRIPTION:Um 17.00 Uhr starten wir zu Fuss beim Martins-Träff\, um in Lac
 hen das Schiff mit dem Friedenslicht zu empfangen.\nEs kann unterwegs via 
 Steinegg dazugestossen werden.\nCa.19.00 Uhr sind wir wieder zurück. Nach 
 einer kurzen Feier in der Kirche\,\ngibt es für alle heissen Punsch.\nWir 
 freuen uns über viele 'Mitwanderer'!\n
DTSTART:20211214T170000
DTEND:20211214T200000
ORGANIZER:MAILTO:Pfarrei Galgenen <sekretariat@kg-galgenen.ch>
SUMMARY:Friedenslicht nach Galgenen holen. 
END:VEVENT
END:VCALENDAR
