BEGIN:VCALENDAR
VERSION:2.0
PRODID:-//Pfarrei Galgenen//NONSGML kigkonsult.se iCalcreator 2.16.12//
METHOD:PUBLISH
X-MS-OLK-FORCEINSPECTOROPEN:TRUE
BEGIN:VEVENT
UID:20260420T124645CEST-5506NUdhKz@Pfarrei Galgenen
DTSTAMP:20260420T104645Z
DESCRIPTION:In der gemeinsamen Buss- oder Versöhnungsfeier besinnen wir uns
  auf unsere Talente und Fähigkeiten\,\naber auch auf unsere Fehler. So ber
 eiten wir uns innerlich auf das Weihnachtsfest vor.\nDie Feier dauert etwa
  ¾- Stunden und schliesst mit der Bitte um die Lossprechung.\nIn dieser Fe
 ier gelten Abstandsregeln und Maskenpflicht. Besten Dank für Ihr Verständn
 is.\n
DTSTART:20211216T193000
DTEND:20211216T201500
ORGANIZER:MAILTO:Pfarrei Galgenen <sekretariat@kg-galgenen.ch>
SUMMARY:Versöhnungsfeier 
END:VEVENT
END:VCALENDAR
