BEGIN:VCALENDAR
VERSION:2.0
PRODID:-//Pfarrei Galgenen//NONSGML kigkonsult.se iCalcreator 2.16.12//
METHOD:PUBLISH
X-MS-OLK-FORCEINSPECTOROPEN:TRUE
BEGIN:VEVENT
UID:20260420T163011CEST-7150apJOSv@Pfarrei Galgenen
DTSTAMP:20260420T143011Z
DESCRIPTION:Kein Gottesdienst um 9.30 Uhr!\n\nLeider können wir das Krippen
 spiel am 24. Dezember  nicht aufführen! \nAus Coronagründen kann mit den S
 chülern nicht geprobt werden.\n\nWir werden an Stelle des Krippenspiels um
  16.00 Uhr einen weihnachtlichen Familiengottesdienst feiern.\nDiese Feier
  ist 2G-Zertifikatspflichtig mit Maskenpflicht\, besten Dank für Ihr Verst
 ändnis.\n
DTSTART:20211224T160000
DTEND:20211224T170000
ORGANIZER:MAILTO:Pfarrei Galgenen <sekretariat@kg-galgenen.ch>
SUMMARY:Heilig Abend\, Familien-Weihnachtsgottesdienst
END:VEVENT
END:VCALENDAR
