BEGIN:VCALENDAR
VERSION:2.0
PRODID:-//Pfarrei Galgenen//NONSGML kigkonsult.se iCalcreator 2.16.12//
METHOD:PUBLISH
X-MS-OLK-FORCEINSPECTOROPEN:TRUE
BEGIN:VEVENT
UID:20260420T124634CEST-5189miMbhk@Pfarrei Galgenen
DTSTAMP:20260420T104634Z
DESCRIPTION:Weihnachts-Messe\, musikalisch begleitet von Fabienne und Matth
 ias Bisig.\n\nDiese Feier ist 2G-Zertifikatspflichtig mit Maskenpflicht\, 
 besten Dank für Ihr Verständnis.\n
DTSTART:20211224T180000
DTEND:20211224T190000
ORGANIZER:MAILTO:Pfarrei Galgenen <sekretariat@kg-galgenen.ch>
SUMMARY:Heilig Abend\, Weihnachtsmesse 
END:VEVENT
END:VCALENDAR
