BEGIN:VCALENDAR
VERSION:2.0
PRODID:-//Pfarrei Galgenen//NONSGML kigkonsult.se iCalcreator 2.16.12//
METHOD:PUBLISH
X-MS-OLK-FORCEINSPECTOROPEN:TRUE
BEGIN:VEVENT
UID:20260420T124740CEST-9481dvkewB@Pfarrei Galgenen
DTSTAMP:20260420T104740Z
DESCRIPTION:Gottesdienst mit P. Robert Camenzind aus Nuolen\,\nmusikalisch 
 begleitet von Urban Huber\, Klarinette und Andreas Diethelm\, Orgel.\n\nFü
 r diese Feier gelten die Abstandsregeln und Maskenpflicht. Besten Dank für
  Ihr Verständnis.\n
DTSTART:20211226T093000
DTEND:20211226T103000
ORGANIZER:MAILTO:Pfarrei Galgenen <sekretariat@kg-galgenen.ch>
SUMMARY:Stephanstag
END:VEVENT
END:VCALENDAR
