BEGIN:VCALENDAR
VERSION:2.0
PRODID:-//Pfarrei Galgenen//NONSGML kigkonsult.se iCalcreator 2.16.12//
METHOD:PUBLISH
X-MS-OLK-FORCEINSPECTOROPEN:TRUE
BEGIN:VEVENT
UID:20260420T124747CEST-6046aWaJLN@Pfarrei Galgenen
DTSTAMP:20260420T104747Z
DESCRIPTION:Festgottesdienst \n\nKein Gottesdienst um 9.30 Uhr!\nUm 17.00 U
 hr ein Neujahrsgottesdienst. Für diese Feier gelten die Abstandsregeln und
  Maskenpflicht. \nBesten Dank für Ihr Verständnis.
DTSTART:20220101T170000
DTEND:20220101T180000
ORGANIZER:MAILTO:Pfarrei Galgenen <sekretariat@kg-galgenen.ch>
SUMMARY:Neujahrs-Gottesdienst
END:VEVENT
END:VCALENDAR
