BEGIN:VCALENDAR
VERSION:2.0
PRODID:-//Pfarrei Galgenen//NONSGML kigkonsult.se iCalcreator 2.16.12//
METHOD:PUBLISH
X-MS-OLK-FORCEINSPECTOROPEN:TRUE
BEGIN:VEVENT
UID:20260420T124740CEST-6418UF9xTN@Pfarrei Galgenen
DTSTAMP:20260420T104740Z
DESCRIPTION:Festgottesdienst zum hl. Dreikönigstag. Für diese Feier gelten 
 die Abstandsregeln und Maskenpflicht.\n Besten Dank für Ihr Verständnis.
DTSTART:20220106T093000
DTEND:20220106T103000
ORGANIZER:MAILTO:Pfarrei Galgenen <sekretariat@kg-galgenen.ch>
SUMMARY:Erscheinung des Herrn 
END:VEVENT
END:VCALENDAR
