BEGIN:VCALENDAR
VERSION:2.0
PRODID:-//Pfarrei Galgenen//NONSGML kigkonsult.se iCalcreator 2.16.12//
METHOD:PUBLISH
X-MS-OLK-FORCEINSPECTOROPEN:TRUE
BEGIN:VEVENT
UID:20260420T124822CEST-24273atLxb@Pfarrei Galgenen
DTSTAMP:20260420T104822Z
DESCRIPTION:Bitte beachten Sie: diese Feier ist 2G-Zertifikatspflichtig!\nG
 ottesdienst unter der Mitwirkung der 5.Klässler und Ihrer Katechetin Monik
 a Fleischmann.\n\nIm Anschluss an die Feier wird der Blasiussegen erteilt.
 \n
DTSTART:20220206T093000
DTEND:20220206T103000
ORGANIZER:MAILTO:Pfarrei Galgenen <sekretariat@kg-galgenen.ch>
SUMMARY:2G-Gottesdienst mit den 5. Klassen\, Blasiussegen
END:VEVENT
END:VCALENDAR
