BEGIN:VCALENDAR
VERSION:2.0
PRODID:-//Pfarrei Galgenen//NONSGML kigkonsult.se iCalcreator 2.16.12//
METHOD:PUBLISH
X-MS-OLK-FORCEINSPECTOROPEN:TRUE
BEGIN:VEVENT
UID:20260420T124748CEST-0146UBVTtb@Pfarrei Galgenen
DTSTAMP:20260420T104748Z
DESCRIPTION:Dieser Gottesdienst wird von P. Robert Camenzind aus Noulen geh
 alten.\n
DTSTART:20220213T093000
DTEND:20220113T103000
ORGANIZER:MAILTO:Pfarrei Galgenen <sekretariat@kg-galgenen.ch>
SUMMARY:Gottesdienst mit Pater Robert Camenzind
END:VEVENT
END:VCALENDAR
