BEGIN:VCALENDAR
VERSION:2.0
PRODID:-//Pfarrei Galgenen//NONSGML kigkonsult.se iCalcreator 2.16.12//
METHOD:PUBLISH
X-MS-OLK-FORCEINSPECTOROPEN:TRUE
BEGIN:VEVENT
UID:20260420T122921CEST-0387FJOout@Pfarrei Galgenen
DTSTAMP:20260420T102921Z
DESCRIPTION:Ob der Gottesdienst am Fasnachtssonntag 2G-Zertifikatspflichtig
  wird\, ist noch offen...\nEbenfalls das Chiläkaifi im Martins-Träff.\nAb 
 dem 17. Februar werden wir es hier definitiv kommunizieren!\n
DTSTART:20220227T093000
DTEND:20220227T103000
ORGANIZER:MAILTO:Pfarrei Galgenen <sekretariat@kg-galgenen.ch>
SUMMARY:Gottesdienst zum Fasnachts-Sonntag\, Chiläkafi
END:VEVENT
END:VCALENDAR
