BEGIN:VCALENDAR
VERSION:2.0
PRODID:-//Pfarrei Galgenen//NONSGML kigkonsult.se iCalcreator 2.16.12//
METHOD:PUBLISH
X-MS-OLK-FORCEINSPECTOROPEN:TRUE
BEGIN:VEVENT
UID:20260420T124645CEST-8253U5IbGv@Pfarrei Galgenen
DTSTAMP:20260420T104645Z
DESCRIPTION:Der Gottesdienst um 9.30 Uhr entfällt!\n\n19.30 Uhr Eucharistie
 feier mit Austeilung der geweihten Asche\,\ndie aus gesegneten Palmen- und
  anderen Zweigen vom Vorjahr gewonnen wurde.\n
DTSTART:20220302T193000
DTEND:20220302T203000
ORGANIZER:MAILTO:Pfarrei Galgenen <sekretariat@kg-galgenen.ch>
SUMMARY:Aschermittwoch 
END:VEVENT
END:VCALENDAR
