BEGIN:VCALENDAR
VERSION:2.0
PRODID:-//Pfarrei Galgenen//NONSGML kigkonsult.se iCalcreator 2.16.12//
METHOD:PUBLISH
X-MS-OLK-FORCEINSPECTOROPEN:TRUE
BEGIN:VEVENT
UID:20260420T122957CEST-8812fdZXHl@Pfarrei Galgenen
DTSTAMP:20260420T102957Z
DESCRIPTION:In diesem Gottesdienst wird die Krankensalbung gespendet. \n
DTSTART:20220306T093000
DTEND:20220306T103000
ORGANIZER:MAILTO:Pfarrei Galgenen <sekretariat@kg-galgenen.ch>
SUMMARY:Schweizer Krankensonntag 
END:VEVENT
END:VCALENDAR
