BEGIN:VCALENDAR
VERSION:2.0
PRODID:-//Pfarrei Galgenen//NONSGML kigkonsult.se iCalcreator 2.16.12//
METHOD:PUBLISH
X-MS-OLK-FORCEINSPECTOROPEN:TRUE
BEGIN:VEVENT
UID:20260420T125737CEST-1925kRuJMF@Pfarrei Galgenen
DTSTAMP:20260420T105737Z
DESCRIPTION:Der Gottesdienst wird mitgestaltet von der JuBla.\nWir beginnen
  vor dem Martins-Träff mit der Segnung der Palmzweige\nund ziehen anschlie
 ssend in die Pfarrkirche ein.\n
DTSTART:20220410T093000
DTEND:20220410T103000
ORGANIZER:MAILTO:Pfarrei Galgenen <sekretariat@kg-galgenen.ch>
SUMMARY:Palmsonntag 
END:VEVENT
END:VCALENDAR
