BEGIN:VCALENDAR
VERSION:2.0
PRODID:-//Pfarrei Galgenen//NONSGML kigkonsult.se iCalcreator 2.16.12//
METHOD:PUBLISH
X-MS-OLK-FORCEINSPECTOROPEN:TRUE
BEGIN:VEVENT
UID:20260420T124740CEST-9266iBFvwC@Pfarrei Galgenen
DTSTAMP:20260420T104740Z
DESCRIPTION:Abendmahlsfeier mitgestaltet\nvon den diesjährigen Erstkommunik
 anten.\n
DTSTART:20220414T193000
DTEND:20220414T203000
ORGANIZER:MAILTO:Pfarrei Galgenen <sekretariat@kg-galgenen.ch>
SUMMARY:Hoher Donnerstag 
END:VEVENT
END:VCALENDAR
