BEGIN:VCALENDAR
VERSION:2.0
PRODID:-//Pfarrei Galgenen//NONSGML kigkonsult.se iCalcreator 2.16.12//
METHOD:PUBLISH
X-MS-OLK-FORCEINSPECTOROPEN:TRUE
BEGIN:VEVENT
UID:20260420T124740CEST-9469Wov7WZ@Pfarrei Galgenen
DTSTAMP:20260420T104740Z
DESCRIPTION:Kein Gottesdienst um 9.30 Uhr!\n\nUm 15.00 Uhr ist die Feier vo
 m Leiden und Sterben Christi\,\nmusikalisch mitgestaltet von den Kantoren\
 , ohne Kommunionspendung.\n
DTSTART:20220415T150000
DTEND:20220415T160000
ORGANIZER:MAILTO:Pfarrei Galgenen <sekretariat@kg-galgenen.ch>
SUMMARY:Karfreitag 
END:VEVENT
END:VCALENDAR
