BEGIN:VCALENDAR
VERSION:2.0
PRODID:-//Pfarrei Galgenen//NONSGML kigkonsult.se iCalcreator 2.16.12//
METHOD:PUBLISH
X-MS-OLK-FORCEINSPECTOROPEN:TRUE
BEGIN:VEVENT
UID:20260420T163021CEST-1185nSDCac@Pfarrei Galgenen
DTSTAMP:20260420T143021Z
DESCRIPTION: Auferstehungsfeier - beginnend beim Osterfeuer vor der Friedho
 fskapelle\nund wird in der Pfarrkirche fortgesetzt.\n\nIm Anschluss findet
  das traditionelle „Eiertütschen“ statt. \n
DTSTART:20220417T053000
DTEND:20220417T063000
ORGANIZER:MAILTO:Pfarrei Galgenen <sekretariat@kg-galgenen.ch>
SUMMARY:Auferstehungsfeier 
END:VEVENT
END:VCALENDAR
