BEGIN:VCALENDAR
VERSION:2.0
PRODID:-//Pfarrei Galgenen//NONSGML kigkonsult.se iCalcreator 2.16.12//
METHOD:PUBLISH
X-MS-OLK-FORCEINSPECTOROPEN:TRUE
BEGIN:VEVENT
UID:20260420T124821CEST-9070tpVUDx@Pfarrei Galgenen
DTSTAMP:20260420T104821Z
DESCRIPTION:Festgottesdienst musikalisch begleitet von unserem Kirchenchor.
 \n
DTSTART:20220417T093000
DTEND:20220417T103000
ORGANIZER:MAILTO:Pfarrei Galgenen <sekretariat@kg-galgenen.ch>
SUMMARY:Osterfeier
END:VEVENT
END:VCALENDAR
