BEGIN:VCALENDAR
VERSION:2.0
PRODID:-//Pfarrei Galgenen//NONSGML kigkonsult.se iCalcreator 2.16.12//
METHOD:PUBLISH
X-MS-OLK-FORCEINSPECTOROPEN:TRUE
BEGIN:VEVENT
UID:20260420T124633CEST-5176dXVzGx@Pfarrei Galgenen
DTSTAMP:20260420T104633Z
DESCRIPTION:Die 3. Klassen feiern ihre Erstkommunion.\nDer Gottesdienst wir
 d von verschiedenen musikalischen Beiträgen begleitet.\n\nIm Anschluss ser
 viert die JuBla einen Apero.\n
DTSTART:20220424T093000
DTEND:20220424T103000
ORGANIZER:MAILTO:Pfarrei Galgenen <sekretariat@kg-galgenen.ch>
SUMMARY:Erstkommunion 
END:VEVENT
END:VCALENDAR
