BEGIN:VCALENDAR
VERSION:2.0
PRODID:-//Pfarrei Galgenen//NONSGML kigkonsult.se iCalcreator 2.16.12//
METHOD:PUBLISH
X-MS-OLK-FORCEINSPECTOROPEN:TRUE
BEGIN:VEVENT
UID:20260420T125758CEST-1207vsdO0n@Pfarrei Galgenen
DTSTAMP:20260420T105758Z
DESCRIPTION:Die Maiandacht  wird gestaltet von Corinne Mäder und\nmusikalis
 ch begleitet von Fabienne Bisig.
DTSTART:20220505T193000
DTEND:20220505T200000
ORGANIZER:MAILTO:Pfarrei Galgenen <sekretariat@kg-galgenen.ch>
SUMMARY:Maiandacht in der Jostenkapelle
END:VEVENT
END:VCALENDAR
