BEGIN:VCALENDAR
VERSION:2.0
PRODID:-//Pfarrei Galgenen//NONSGML kigkonsult.se iCalcreator 2.16.12//
METHOD:PUBLISH
X-MS-OLK-FORCEINSPECTOROPEN:TRUE
BEGIN:VEVENT
UID:20260420T124823CEST-9162pvNuGg@Pfarrei Galgenen
DTSTAMP:20260420T104823Z
DESCRIPTION:Dieser Gottesdienst wird musikalisch mitgestaltet\nvom «Chörli 
 us de March”.
DTSTART:20220508T093000
DTEND:20220508T103000
ORGANIZER:MAILTO:Pfarrei Galgenen <sekretariat@kg-galgenen.ch>
SUMMARY:Muttertag
END:VEVENT
END:VCALENDAR
