BEGIN:VCALENDAR
VERSION:2.0
PRODID:-//Pfarrei Galgenen//NONSGML kigkonsult.se iCalcreator 2.16.12//
METHOD:PUBLISH
X-MS-OLK-FORCEINSPECTOROPEN:TRUE
BEGIN:VEVENT
UID:20260420T122755CEST-3476FGEEDL@Pfarrei Galgenen
DTSTAMP:20260420T102755Z
DESCRIPTION:Die Maiandacht wird gestaltet von Corinne Mäder gemeinsam mit d
 er\nFrauen und Müttergemeinschaft Galgenen (FMG)\, musikalisch begleitet v
 on Familie Suter.
DTSTART:20220519T193000
DTEND:20220519T200000
ORGANIZER:MAILTO:Pfarrei Galgenen <sekretariat@kg-galgenen.ch>
SUMMARY:Maiandacht in der Jostenkapelle
END:VEVENT
END:VCALENDAR
