BEGIN:VCALENDAR
VERSION:2.0
PRODID:-//Pfarrei Galgenen//NONSGML kigkonsult.se iCalcreator 2.16.12//
METHOD:PUBLISH
X-MS-OLK-FORCEINSPECTOROPEN:TRUE
BEGIN:VEVENT
UID:20260420T124633CEST-4571zsiV5D@Pfarrei Galgenen
DTSTAMP:20260420T104633Z
DESCRIPTION:Festgottesdienst mit P. Josef Hobi aus Nuolen\,\nmusikalisch be
 gleitet vom Kirchenchor.
DTSTART:20220526T093000
DTEND:20220526T103000
ORGANIZER:MAILTO:Pfarrei Galgenen <sekretariat@kg-galgenen.ch>
SUMMARY:Christi Himmelfahrt 
END:VEVENT
END:VCALENDAR
