BEGIN:VCALENDAR
VERSION:2.0
PRODID:-//Pfarrei Galgenen//NONSGML kigkonsult.se iCalcreator 2.16.12//
METHOD:PUBLISH
X-MS-OLK-FORCEINSPECTOROPEN:TRUE
BEGIN:VEVENT
UID:20260420T123106CEST-78026271ZJ@Pfarrei Galgenen
DTSTAMP:20260420T103106Z
DESCRIPTION:Maiandacht  gestaltet von Br. Patrik\, musikalisch begleitet vo
 n Werni Kessler.\nBei schlechter Witterung entfällt die Andacht!
DTSTART:20220526T193000
DTEND:20220526T200000
ORGANIZER:MAILTO:Pfarrei Galgenen <sekretariat@kg-galgenen.ch>
SUMMARY:Christi Himmelfahrt - Maiandacht bei der Maria Immerhilf Kapelle
END:VEVENT
END:VCALENDAR
