BEGIN:VCALENDAR
VERSION:2.0
PRODID:-//Pfarrei Galgenen//NONSGML kigkonsult.se iCalcreator 2.16.12//
METHOD:PUBLISH
X-MS-OLK-FORCEINSPECTOROPEN:TRUE
BEGIN:VEVENT
UID:20260420T124748CEST-2187XuK7SP@Pfarrei Galgenen
DTSTAMP:20260420T104748Z
DESCRIPTION:Achtung: um 9.30 Uhr findet in Galgenen kein Gottesdienst statt
 !\n\n04.00 Uhr:\nWandertüchtige treffen sich bei trockener Witterung in de
 r Jostenkapelle zum Fussmarsch nach Einsiedeln\,\nFrühstückshalt auf dem E
 tzel (bei unsicherer Witterung gibt Adelbert Hüppin\, N: 079 902 90 37 ab 
 03.30 Uhr Auskunft).\n\n07.00 Uhr:\nBei schlechter Wetterlage treffen wir 
 uns direkt im Restaurant St. Meinrad auf dem Etzel\, zum gemeinsamen Frühs
 tück.\nDen restlichen Pilgerweg nach Einsiedeln legen wir individuell zurü
 ck.\n\n10.00 Uhr:\nAls Pilgerschar halten wir mit Br. Patrik in der Krypta
 /Unterkirche des Klosters Einsiedeln eine Eucharistiefeier.\n\nInformation
 :\nDie Anmeldung für die Wallfahrt/Frühstück im St. Meinrad\nist verbindli
 ch!\nDie Kosten für das Frühstück der Kinder bis und mit 15 Jahren\nüberni
 mmt die Pfarrei. Anmeldungen sind im Pfarramt mündlich\,\ntelefonisch oder
  per Mail bis am 23. Mai 2022 möglich.\n 
DTSTART:20220529T040000
DTEND:20220529T110000
ORGANIZER:MAILTO:Pfarrei Galgenen <sekretariat@kg-galgenen.ch>
SUMMARY:Wallfahrt nach Einsiedeln 
END:VEVENT
END:VCALENDAR
