BEGIN:VCALENDAR
VERSION:2.0
PRODID:-//Pfarrei Galgenen//NONSGML kigkonsult.se iCalcreator 2.16.12//
METHOD:PUBLISH
X-MS-OLK-FORCEINSPECTOROPEN:TRUE
BEGIN:VEVENT
UID:20260420T124747CEST-8889Zx6jXH@Pfarrei Galgenen
DTSTAMP:20260420T104747Z
DESCRIPTION:Festgottesdienst\, mitgestaltet von den diesjährigen Erstkommun
 ikanten.
DTSTART:20220616T093000
DTEND:20220616T103000
ORGANIZER:MAILTO:Pfarrei Galgenen <sekretariat@kg-galgenen.ch>
SUMMARY:Fronleichnam
END:VEVENT
END:VCALENDAR
