BEGIN:VCALENDAR
VERSION:2.0
PRODID:-//Pfarrei Galgenen//NONSGML kigkonsult.se iCalcreator 2.16.12//
METHOD:PUBLISH
X-MS-OLK-FORCEINSPECTOROPEN:TRUE
BEGIN:VEVENT
UID:20260420T124834CEST-3370PM378c@Pfarrei Galgenen
DTSTAMP:20260420T104834Z
DESCRIPTION:Firmung der 6. Klassen\, mit Generalvikar Peter Camenzind.\nVor
  der Feier wird ein Apero serviert.
DTSTART:20220625T170000
DTEND:20220625T180000
ORGANIZER:MAILTO:Pfarrei Galgenen <sekretariat@kg-galgenen.ch>
SUMMARY:FIRMUNG 
END:VEVENT
END:VCALENDAR
