BEGIN:VCALENDAR
VERSION:2.0
PRODID:-//Pfarrei Galgenen//NONSGML kigkonsult.se iCalcreator 2.16.12//
METHOD:PUBLISH
X-MS-OLK-FORCEINSPECTOROPEN:TRUE
BEGIN:VEVENT
UID:20260420T122817CEST-9730ArXKbi@Pfarrei Galgenen
DTSTAMP:20260420T102817Z
DESCRIPTION:
DTSTART:20220625T093000
DTEND:20220625T093000
ORGANIZER:MAILTO:Pfarrei Galgenen <sekretariat@kg-galgenen.ch>
SUMMARY:Kein Gottesdienst um 9.30 Uhr !
END:VEVENT
END:VCALENDAR
