BEGIN:VCALENDAR
VERSION:2.0
PRODID:-//Pfarrei Galgenen//NONSGML kigkonsult.se iCalcreator 2.16.12//
METHOD:PUBLISH
X-MS-OLK-FORCEINSPECTOROPEN:TRUE
BEGIN:VEVENT
UID:20260420T122635CEST-986027u0cE@Pfarrei Galgenen
DTSTAMP:20260420T102635Z
DESCRIPTION:Kein Gottesdienst um 9.30 Uhr in Galgenen!\n\nWir feiern einen 
 ökumenischen Gottesdienst in der reformierten Pfarrkirche Siebnen\,\ngelei
 tet von Pfarrer Ralf Zimmer und Br. Patrik Schäfli.\nMusikaische Gestaltun
 g durch den ref. Kirchenchor March und den Kirchenchor Galgenen.
DTSTART:20220626T100000
DTEND:20220626T110000
ORGANIZER:MAILTO:Pfarrei Galgenen <sekretariat@kg-galgenen.ch>
SUMMARY:Ökumenischer Gottesdienst in Siebnen
END:VEVENT
END:VCALENDAR
