BEGIN:VCALENDAR
VERSION:2.0
PRODID:-//Pfarrei Galgenen//NONSGML kigkonsult.se iCalcreator 2.16.12//
METHOD:PUBLISH
X-MS-OLK-FORCEINSPECTOROPEN:TRUE
BEGIN:VEVENT
UID:20260422T124256CEST-7053xL7IUi@Pfarrei Galgenen
DTSTAMP:20260422T104256Z
DESCRIPTION:Familiengottesdienst der KAB im Tannligarten mit dem Alphorntri
 o Stockberg-Echo.\nBei schlechtem Wetter findet der Gottesdienst um 09.30 
 Uhr in der Pfarrkirche statt. Das Glockenzeichen um 08.00 Uhr bedeutet\ndi
 e Durchführung im Tannligarten.\nEbenfalls Auskunft gibt:\nToni Diethelm (
 N: 078 699 24 97). Er nimmt auch Abholungswünsche entgegen.\n
DTSTART:20220724T103000
DTEND:20220724T113000
ORGANIZER:MAILTO:Pfarrei Galgenen <sekretariat@kg-galgenen.ch>
SUMMARY:Familiengottesdienst im Tannligarten
END:VEVENT
END:VCALENDAR
