BEGIN:VCALENDAR
VERSION:2.0
PRODID:-//Pfarrei Galgenen//NONSGML kigkonsult.se iCalcreator 2.16.12//
METHOD:PUBLISH
X-MS-OLK-FORCEINSPECTOROPEN:TRUE
BEGIN:VEVENT
UID:20260420T124834CEST-41518gndhv@Pfarrei Galgenen
DTSTAMP:20260420T104834Z
DESCRIPTION:Andacht bei der Maria Immerhilfkapelle. Musikalisch wird die An
 dacht von Stefan Kessler begleitet.\nNur bei günstiger Witterung!\n\nAusku
 nft Fam. Schwyter-Mächler\, Tel. 055 440 54 91\n
DTSTART:20220815T193000
DTEND:20220815T200000
ORGANIZER:MAILTO:Pfarrei Galgenen <sekretariat@kg-galgenen.ch>
SUMMARY:Andacht - Mariä Aufnahme in den Himmel 
END:VEVENT
END:VCALENDAR
