BEGIN:VCALENDAR
VERSION:2.0
PRODID:-//Pfarrei Galgenen//NONSGML kigkonsult.se iCalcreator 2.16.12//
METHOD:PUBLISH
X-MS-OLK-FORCEINSPECTOROPEN:TRUE
BEGIN:VEVENT
UID:20260420T124834CEST-5718GcnCd3@Pfarrei Galgenen
DTSTAMP:20260420T104834Z
DESCRIPTION:Grabenegg Berggottesdienst\, beim Grabeneggkreuz.\nBei schlecht
 em Wetter: Gottesdienst im gleichen Rahmen um 09.30 Uhr in der Pfarrkirche
 .\n\nDas Glockenzeichen um 08.00 Uhr bedeutet die Durchführung beim Kreuz.
 \nEbenfalls Auskunft gibt: Adelbert Hüppin (N: 079 902 90 37).\n
DTSTART:20220821T103000
DTEND:20220821T113000
ORGANIZER:MAILTO:Pfarrei Galgenen <sekretariat@kg-galgenen.ch>
SUMMARY:Grabenegg Berggottesdienst 
END:VEVENT
END:VCALENDAR
