BEGIN:VCALENDAR
VERSION:2.0
PRODID:-//Pfarrei Galgenen//NONSGML kigkonsult.se iCalcreator 2.16.12//
METHOD:PUBLISH
X-MS-OLK-FORCEINSPECTOROPEN:TRUE
BEGIN:VEVENT
UID:20260422T111534CEST-13471aVArM@Pfarrei Galgenen
DTSTAMP:20260422T091534Z
DESCRIPTION:In diesem Familiengottesdienst werden unsere neuen Ministranten
  feierlich in ihren Dienst aufgenommen.\nIm Anschluss an den Gottesdienst 
 führen die Ministranten im Martins-Träff ein „Chiläkafi“.\n
DTSTART:20220911T093000
DTEND:20220911T103000
ORGANIZER:MAILTO:Pfarrei Galgenen <sekretariat@kg-galgenen.ch>
SUMMARY:Ministrantenaufnahme 
END:VEVENT
END:VCALENDAR
