BEGIN:VCALENDAR
VERSION:2.0
PRODID:-//Pfarrei Galgenen//NONSGML kigkonsult.se iCalcreator 2.16.12//
METHOD:PUBLISH
X-MS-OLK-FORCEINSPECTOROPEN:TRUE
BEGIN:VEVENT
UID:20260420T124552CEST-5423e9us9B@Pfarrei Galgenen
DTSTAMP:20260420T104552Z
DESCRIPTION:Diesen Familiengottesdienst wird Jolanda Schnorf gemeinsam mit 
 den Erstklässlern\nmitgestalten.\nMusikalisch wird die Feier von den Kanto
 ren begleitet.\n
DTSTART:20220918T093000
DTEND:20220918T103000
ORGANIZER:MAILTO:Pfarrei Galgenen <sekretariat@kg-galgenen.ch>
SUMMARY:Segensfeier mit den ersten Klassen von Galgenen
END:VEVENT
END:VCALENDAR
