BEGIN:VCALENDAR
VERSION:2.0
PRODID:-//Pfarrei Galgenen//NONSGML kigkonsult.se iCalcreator 2.16.12//
METHOD:PUBLISH
X-MS-OLK-FORCEINSPECTOROPEN:TRUE
BEGIN:VEVENT
UID:20260420T124834CEST-5336vu689I@Pfarrei Galgenen
DTSTAMP:20260420T104834Z
DESCRIPTION:In diesem Familiengottesdienst werden die Erstkommunikanten vom
  2023 vorgestellt.\n
DTSTART:20220925T093000
DTEND:20220925T103000
ORGANIZER:MAILTO:Pfarrei Galgenen <sekretariat@kg-galgenen.ch>
SUMMARY:Vorstellungs-Gottesdienst der Erstkommunikanten
END:VEVENT
END:VCALENDAR
