BEGIN:VCALENDAR
VERSION:2.0
PRODID:-//Pfarrei Galgenen//NONSGML kigkonsult.se iCalcreator 2.16.12//
METHOD:PUBLISH
X-MS-OLK-FORCEINSPECTOROPEN:TRUE
BEGIN:VEVENT
UID:20260420T124055CEST-2164hXxC3l@Pfarrei Galgenen
DTSTAMP:20260420T104055Z
DESCRIPTION:Diese Feier am Samstagabend wird von unseren Ministranten dekor
 iert und mitgestaltet.\nEin «süss-saurer» Familiengottesdienst erwartet si
 e.\n
DTSTART:20221029T183000
DTEND:20221029T193000
ORGANIZER:MAILTO:Pfarrei Galgenen <sekretariat@kg-galgenen.ch>
SUMMARY:Halloween Familien-Gottesdienst 
END:VEVENT
END:VCALENDAR
