BEGIN:VCALENDAR
VERSION:2.0
PRODID:-//Pfarrei Galgenen//NONSGML kigkonsult.se iCalcreator 2.16.12//
METHOD:PUBLISH
X-MS-OLK-FORCEINSPECTOROPEN:TRUE
BEGIN:VEVENT
UID:20260420T122941CEST-4090OctEcc@Pfarrei Galgenen
DTSTAMP:20260420T102941Z
DESCRIPTION:Unsere Ministranten fürhen am Herbstmärt einen Stand. Sie freue
 n sich über \njede Besucherin und jeden Besucher\, schauen Sie doch vorbei
 ...
DTSTART:20221008T000000
DTEND:20221008T000000
ORGANIZER:MAILTO:Pfarrei Galgenen <sekretariat@kg-galgenen.ch>
SUMMARY:Herbstmärt in Galgenen 
END:VEVENT
END:VCALENDAR
