BEGIN:VCALENDAR
VERSION:2.0
PRODID:-//Pfarrei Galgenen//NONSGML kigkonsult.se iCalcreator 2.16.12//
METHOD:PUBLISH
X-MS-OLK-FORCEINSPECTOROPEN:TRUE
BEGIN:VEVENT
UID:20260420T122921CEST-3365sInfSl@Pfarrei Galgenen
DTSTAMP:20260420T102921Z
DESCRIPTION:Familiengottesdienst unter der Mitwirkung der Bauernvereinigung
  Galgenen\nund verschiedenen volkstümlichen Beiträgen.\nIm Anschluss an de
 n Gottesdienst serviert die Bauernvereinigung einen feinen Apero.\n
DTSTART:20221016T093000
DTEND:20221016T103000
ORGANIZER:MAILTO:Pfarrei Galgenen <sekretariat@kg-galgenen.ch>
SUMMARY:Erntedank Gottesdienst 
END:VEVENT
END:VCALENDAR
